BEGIN:VCALENDAR
VERSION:2.0
PRODID:-//Urasenke - ECPv6.15.20//NONSGML v1.0//EN
CALSCALE:GREGORIAN
METHOD:PUBLISH
X-ORIGINAL-URL:https://urasenke.fi
X-WR-CALDESC:Tapahtumat Urasenke
REFRESH-INTERVAL;VALUE=DURATION:PT1H
X-Robots-Tag:noindex
X-PUBLISHED-TTL:PT1H
BEGIN:VTIMEZONE
TZID:Europe/Helsinki
BEGIN:DAYLIGHT
TZOFFSETFROM:+0200
TZOFFSETTO:+0300
TZNAME:EEST
DTSTART:20250330T010000
END:DAYLIGHT
BEGIN:STANDARD
TZOFFSETFROM:+0300
TZOFFSETTO:+0200
TZNAME:EET
DTSTART:20251026T010000
END:STANDARD
BEGIN:DAYLIGHT
TZOFFSETFROM:+0200
TZOFFSETTO:+0300
TZNAME:EEST
DTSTART:20260329T010000
END:DAYLIGHT
BEGIN:STANDARD
TZOFFSETFROM:+0300
TZOFFSETTO:+0200
TZNAME:EET
DTSTART:20261025T010000
END:STANDARD
BEGIN:DAYLIGHT
TZOFFSETFROM:+0200
TZOFFSETTO:+0300
TZNAME:EEST
DTSTART:20270328T010000
END:DAYLIGHT
BEGIN:STANDARD
TZOFFSETFROM:+0300
TZOFFSETTO:+0200
TZNAME:EET
DTSTART:20271031T010000
END:STANDARD
END:VTIMEZONE
BEGIN:VEVENT
DTSTART;TZID=Europe/Helsinki:20260426T110000
DTEND;TZID=Europe/Helsinki:20260426T180000
DTSTAMP:20260423T120636
CREATED:20260301T103551Z
LAST-MODIFIED:20260302T211906Z
UID:10000453-1777201200-1777226400@urasenke.fi
SUMMARY:Teehuoneen siivouspäivä 26.4.
DESCRIPTION:Kevään perinteisenä siivouspäivänä su 26.4.2026 siivotaan teehuone perusteellisesti ja vaihdetaan ro-kaudesta furo-kauteen. Osallistujille tarjotaan kevyt nuudelilounas ja tietenkin teetä ja makeisia. Mennään klo 10:40 lautalla. Vastuuhenkilö on Sari (sari@urasenke.fi). \n  \n\n  \nDuring the traditional spring cleaning day the tea room is thoroughly cleaned and changed from ro season to furo season. We will take the 10:40 am ferry. All participants are rewarded with a cup noodle lunch and\, of course\, tea and sweets will be served\, too. The person responsible of the cleaning day is Sari (sari@urasenke.fi).
URL:https://urasenke.fi/tapahtuma/teehuoneen-siivouspaiva-26-4/
END:VEVENT
BEGIN:VEVENT
DTSTART;TZID=Europe/Helsinki:20260428T163000
DTEND;TZID=Europe/Helsinki:20260428T200000
DTSTAMP:20260423T120636
CREATED:20260329T203154Z
LAST-MODIFIED:20260329T212241Z
UID:10000459-1777393800-1777406400@urasenke.fi
SUMMARY:Okeiko / Nyumon 28.4. (Hakobi temae)
DESCRIPTION:Tähän keikoon saavat osallistua kaikki alkeiskurssin käyneet yhdistyksen jäsenet. Keikossa on mahdollisuus harjoitella sumi temaen tekoa\, mikäli tana koicha sujuu opiskelijalta sujuvasti. \nKeikon teema on furo-hakobi temae. \nKeiko alkaa klo 16:30 (16:00 lautta). Keikon vastuuhenkilö on Tomoko (tomoko@urasenke.fi). \nIlmoittauduthan keikoon viimeistään sitä edeltävänä torstaina. Jos joudut perumaan osallistumisesi torstain jälkeen\, ilmoitathan peruutuksesta myös sähköpostitse vastuuhenkilölle. \nHuom! Huomioithan\, että jos osallistujia on vain yksi\, keiko peruutetaan. \n\nYou can attend this keiko\, if you have completed the beginners’ course and are a member. You can attend this keiko\, if you have completed the beginners’ course and are a member. In this keiko it is possible to practice sumi temae if the student is able to proficiently conduct tana koicha temae. \nThe practice starts at 16:30 (16:00 ferry). The person responsible for this keiko is Tomoko (tomoko@urasenke.fi). \nPlease register on preceding Thursday at the latest. If you have to cancel your participation after Thursday\, please inform the person responsible about the cancellation also by email. \nPlease note that if there is only one participant\, the keiko will be cancelled.
URL:https://urasenke.fi/tapahtuma/okeiko-nyumon-28-4-hakobi/
END:VEVENT
END:VCALENDAR